BEGIN:VCALENDAR
VERSION:2.0
PRODID:-//ChamberMaster//Event Calendar 2.0//EN
METHOD:PUBLISH
X-PUBLISHED-TTL:P3D
REFRESH-INTERVAL:P3D
CALSCALE:GREGORIAN
BEGIN:VEVENT
DTSTART:20220615T163000Z
DTEND:20220615T180000Z
X-MICROSOFT-CDO-ALLDAYEVENT:FALSE
SUMMARY:Chamber of Commerce Luncheon
DESCRIPTION:Join us with Richard McBrayer as he speaks about their mission is to evaluate\, understand\, plan\, prepare for\, and respond to the unexpected while teaming actively with other City and County departments\, volunteer organizations\, and the private sector supporting an effective response\, mitigating further hazards\, and assisting in recovery. This includes educating and informing the community of issues and actions taken on their behalf.
X-ALT-DESC;FMTTYPE=text/html:<span style="color: rgb(51\, 51\, 51)\; font-family: &quot\;Open Sans&quot\;\; font-size: 15.2px\; font-style: normal\; font-variant-ligatures: normal\; font-variant-caps: normal\; font-weight: 400\; letter-spacing: normal\; orphans: 2\; text-align: justify\; text-indent: 0px\; text-transform: none\; white-space: normal\; widows: 2\; word-spacing: 0px\; -webkit-text-stroke-width: 0px\; background-color: rgb(255\, 255\, 255)\; text-decoration-thickness: initial\; text-decoration-style: initial\; text-decoration-color: initial\; display: inline !important\; float: none\;">Join us with Richard McBrayer as he speaks about their mission is to evaluate\, understand\, plan\, prepare for\, and respond to the unexpected while teaming actively with other City and County departments\, volunteer organizations\, and the private sector supporting an effective response\, mitigating further hazards\, and assisting in recovery. This includes educating and informing the community of issues and actions taken on their behalf.</span>
LOCATION:University of Houston-Victoria North MPR 3007 N Ben Wilson
UID:e.2664.1131
SEQUENCE:3
DTSTAMP:20260419T215040Z
URL:https://business.victoriachamber.org/events/details/chamber-of-commerce-luncheon-1131
END:VEVENT

END:VCALENDAR
