BEGIN:VCALENDAR
VERSION:2.0
PRODID:-//ChamberMaster//Event Calendar 2.0//EN
METHOD:PUBLISH
X-PUBLISHED-TTL:P3D
REFRESH-INTERVAL:P3D
CALSCALE:GREGORIAN
BEGIN:VEVENT
DTSTART:20230617T180000Z
DTEND:20230617T200000Z
X-MICROSOFT-CDO-ALLDAYEVENT:FALSE
SUMMARY:Coast Writers
DESCRIPTION:Coast Writers is a group of adults young and old\, for all levels of writers. We come together to share manuscripts and exchange feedback\, participate in writing exercise\, discuss our writing process\, and exchange information on writing craft and market information. The first hour of the meeting is used for writing time. You can bring any writing project you are currently working on or use one of the writing prompts made available to get your creativity flowing. The second half of the meeting is for sharing and exchanging feedback from the group. Wherever you are in your writing journey\, come find support\, encouragement\, and share your passion for writing.
X-ALT-DESC;FMTTYPE=text/html:Coast Writers is a group of adults young and old\, for all levels of writers. We come together to share manuscripts and exchange feedback\, participate in writing exercise\, discuss our writing process\, and exchange information on writing craft and market information. The first hour of the meeting is used for writing time. You can bring any writing project you are currently working on or use one of the writing prompts made available to get your creativity flowing. The second half of the meeting is for sharing and exchanging feedback from the group. Wherever you are in your writing journey\, come find support\, encouragement\, and share your passion for writing.
LOCATION:Victoria Public Library 302 N Main St Victoria\, TX 77901
UID:e.2664.2066
SEQUENCE:3
DTSTAMP:20260421T165619Z
URL:https://business.victoriachamber.org/events/details/coast-writers-2066
END:VEVENT

END:VCALENDAR
