BEGIN:VCALENDAR
VERSION:2.0
PRODID:-//ChamberMaster//Event Calendar 2.0//EN
METHOD:PUBLISH
X-PUBLISHED-TTL:P3D
REFRESH-INTERVAL:P3D
CALSCALE:GREGORIAN
BEGIN:VEVENT
DTSTART:20230623T153000Z
DTEND:20230623T163000Z
X-MICROSOFT-CDO-ALLDAYEVENT:FALSE
SUMMARY:Color Me Calm - Coloring Hour
DESCRIPTION:Drop in for some relaxing coloring fun! All supplies are provided and no experience required. Just bring yourself and your creativity! Open to teens and adults.
X-ALT-DESC;FMTTYPE=text/html:Drop in for some relaxing coloring fun! All supplies are provided and no experience required. Just bring yourself and your creativity! Open to teens and adults.
LOCATION:Victoria Public Library 302 N Main St Victoria\, TX 77901
UID:e.2664.2069
SEQUENCE:3
DTSTAMP:20260421T151905Z
URL:https://business.victoriachamber.org/events/details/color-me-calm-coloring-hour-06-23-2023-2069
END:VEVENT

END:VCALENDAR
