BEGIN:VCALENDAR
VERSION:2.0
PRODID:-//ChamberMaster//Event Calendar 2.0//EN
METHOD:PUBLISH
X-PUBLISHED-TTL:P3D
REFRESH-INTERVAL:P3D
CALSCALE:GREGORIAN
BEGIN:VEVENT
DTSTART:20241211T223000Z
DTEND:20241211T233000Z
X-MICROSOFT-CDO-ALLDAYEVENT:FALSE
SUMMARY:Inbetweeners: Winter Wind Chimes
DESCRIPTION:This holiday season we're whipping up some frosty winter wind chimes to jazz up your front porch!
X-ALT-DESC;FMTTYPE=text/html:This holiday season we&rsquo\;re whipping up some frosty winter wind chimes to jazz up your front porch!
LOCATION:Victoria Mall 7800 N Navarro Street Victoria \, TX 77904
UID:e.2664.3507
SEQUENCE:3
DTSTAMP:20260419T135253Z
URL:https://business.victoriachamber.org/events/details/inbetweeners-winter-wind-chimes-12-11-2024-3507
END:VEVENT

END:VCALENDAR
