BEGIN:VCALENDAR
VERSION:2.0
PRODID:-//ChamberMaster//Event Calendar 2.0//EN
METHOD:PUBLISH
X-PUBLISHED-TTL:P3D
REFRESH-INTERVAL:P3D
CALSCALE:GREGORIAN
BEGIN:VEVENT
DTSTART:20230616T150000Z
DTEND:20230616T160000Z
X-MICROSOFT-CDO-ALLDAYEVENT:FALSE
SUMMARY:Morning Chair Yoga
DESCRIPTION:If you're wanting to get out of the house and meet new people\, then come to our morning social hour! Chair yoga is a gentle form of yoga that helps improve stability\, flexibility\, and reduce stress. Led by Citizen's Health Plex instructor\, Sharon Elder.
X-ALT-DESC;FMTTYPE=text/html:If you&#39\;re wanting to get out of the house and meet new people\, then come to our morning social hour! Chair yoga is a gentle form of yoga that helps improve stability\, flexibility\, and reduce stress. Led by Citizen&#39\;s Health Plex instructor\, Sharon Elder.
LOCATION:Victoria Public Library 302 N Main St Victoria\, TX 77901
UID:e.2664.2063
SEQUENCE:3
DTSTAMP:20260421T152026Z
URL:https://business.victoriachamber.org/events/details/morning-chair-yoga-2063
END:VEVENT

END:VCALENDAR
