BEGIN:VCALENDAR
VERSION:2.0
PRODID:-//ChamberMaster//Event Calendar 2.0//EN
METHOD:PUBLISH
X-PUBLISHED-TTL:P3D
REFRESH-INTERVAL:P3D
CALSCALE:GREGORIAN
BEGIN:VEVENT
DTSTART:20250515T223000Z
DTEND:20250515T233000Z
X-MICROSOFT-CDO-ALLDAYEVENT:FALSE
SUMMARY:Texas A&M AgriLife Extension: Step Up Scale Down
DESCRIPTION:Step up Scale Down is a multi-week program focusing on weight loss and wellness. Each week focuses on a different topic related to nutrition\, healthy eating\, exercise\, and more to help support you in your weight loss journey and reduce your risk for chronic disease.
X-ALT-DESC;FMTTYPE=text/html:Step up Scale Down is a multi-week program focusing on weight loss and wellness. Each week focuses on a different topic related to nutrition\, healthy eating\, exercise\, and more to help support you in your weight loss journey and reduce your risk for chronic disease.
LOCATION:Victoria Public Library 302 N. Main Street Victoria\, TX 77901
UID:e.2664.3768
SEQUENCE:3
DTSTAMP:20260421T085039Z
URL:https://business.victoriachamber.org/events/details/texas-a-m-agrilife-extension-step-up-scale-down-05-15-2025-3768
END:VEVENT

END:VCALENDAR
