BEGIN:VCALENDAR
VERSION:2.0
PRODID:-//ChamberMaster//Event Calendar 2.0//EN
METHOD:PUBLISH
X-PUBLISHED-TTL:P3D
REFRESH-INTERVAL:P3D
CALSCALE:GREGORIAN
BEGIN:VEVENT
DTSTART:20230615T213000Z
DTEND:20230615T223000Z
X-MICROSOFT-CDO-ALLDAYEVENT:FALSE
SUMMARY:Yarn Craft Club
DESCRIPTION:Come in to learn the basics of crocheting and practice basic crochet stitches. No previous experience is necessary. Crochet hooks and yarn will be supplied. If you already have a project started\, come join us to meet new people that share your love of crafting! All ages starting at 6th grade and up are welcome to join.
X-ALT-DESC;FMTTYPE=text/html:Come in to learn the basics of crocheting and practice basic crochet stitches. No previous experience is necessary. Crochet hooks and yarn will be supplied. If you already have a project started\, come join us to meet new people that share your love of crafting! All ages starting at 6th grade and up are welcome to join.
LOCATION:Victoria Public Library 302 N Main St Victoria\, TX 77901
UID:e.2664.2062
SEQUENCE:3
DTSTAMP:20260421T155025Z
URL:https://business.victoriachamber.org/events/details/yarn-craft-club-06-15-2023-2062
END:VEVENT

END:VCALENDAR
